{"text_format":"3","workbook":"xlsx","n_sheets":3,"sheets":["Employee List","Data Entry Sheet","Calc Sheet"],"not_rendered":{"charts":1,"macros":1,"defined_names":6,"comments":1},"read":"whole","date_system":"1900"}

{"sheet":"Employee List","index":0,"n_rows":32,"n_cols":15,"rows_kept":32,"merged":[[25,10,30,14],[27,4,27,6],[28,4,28,6]]}
[]
[]
[]
[]
["Employee\nName","QA #1","1*","QA #2","1*","QA #3","1*","QA #4","1*","QA #5","1*","QA #6","1*","Meeting QA's","Out of"]
["Ahmann",{"$f":"HYPERLINK(\"Completed\\\" & $A6 & B$32 &\".mht\", IF('Data Entry Sheet'!B3=\"\",\"\",'Data Entry Sheet'!B3))","v":""},{"$f":"IF('Data Entry Sheet'!C3=\"\",\"\",'Data Entry Sheet'!C3)","v":""},{"$f":"HYPERLINK(\"Completed\\\" & $A6 & D$32 &\".mht\", IF('Data Entry Sheet'!D3=\"\",\"\",'Data Entry Sheet'!D3))","v":""},{"$f":"IF('Data Entry Sheet'!E3=\"\",\"\",'Data Entry Sheet'!E3)","v":""},{"$f":"HYPERLINK(\"Completed\\\" & $A6 & F$32 &\".mht\", IF('Data Entry Sheet'!F3=\"\",\"\",'Data Entry Sheet'!F3))","v":""},{"$f":"IF('Data Entry Sheet'!G3=\"\",\"\",'Data Entry Sheet'!G3)","v":""},{"$f":"HYPERLINK(\"Completed\\\" & $A6 & H$32 &\".mht\", IF('Data Entry Sheet'!H3=\"\",\"\",'Data Entry Sheet'!H3))","v":""},{"$f":"IF('Data Entry Sheet'!I3=\"\",\"\",'Data Entry Sheet'!I3)","v":""},{"$f":"HYPERLINK(\"Completed\\\" & $A6 & J$32 &\".mht\", IF('Data Entry Sheet'!J3=\"\",\"\",'Data Entry Sheet'!J3))","v":""},{"$f":"IF('Data Entry Sheet'!K3=\"\",\"\",'Data Entry Sheet'!K3)","v":""},{"$f":"HYPERLINK(\"Completed\\\" & $A6 & L$32 &\".mht\", IF('Data Entry Sheet'!L3=\"\",\"\",'Data Entry Sheet'!L3))","v":""},{"$f":"IF('Data Entry Sheet'!M3=\"\",\"\",'Data Entry Sheet'!M3)","v":""},{"$f":"'Calc Sheet'!H2","v":0},{"$f":"IF(J6<>\"\",5,IF(H6<>\"\",4,IF(F6<>\"\",3,IF(D6<>\"\",2,IF(B6<>\"\",1,\"0\")))))","v":"0"}]
["Cain",{"$f":"HYPERLINK(\"Completed\\\" & $A7 & B$32 &\".mht\", IF('Data Entry Sheet'!B4=\"\",\"\",'Data Entry Sheet'!B4))","v":""},{"$f":"IF('Data Entry Sheet'!C4=\"\",\"\",'Data Entry Sheet'!C4)","v":""},{"$f":"HYPERLINK(\"Completed\\\" & $A7 & D$32 &\".mht\", IF('Data Entry Sheet'!D4=\"\",\"\",'Data Entry Sheet'!D4))","v":""},{"$f":"IF('Data Entry Sheet'!E4=\"\",\"\",'Data Entry Sheet'!E4)","v":""},{"$f":"HYPERLINK(\"Completed\\\" & $A7 & F$32 &\".mht\", IF('Data Entry Sheet'!F4=\"\",\"\",'Data Entry Sheet'!F4))","v":""},{"$f":"IF('Data Entry Sheet'!G4=\"\",\"\",'Data Entry Sheet'!G4)","v":""},{"$f":"HYPERLINK(\"Completed\\\" & $A7 & H$32 &\".mht\", IF('Data Entry Sheet'!H4=\"\",\"\",'Data Entry Sheet'!H4))","v":""},{"$f":"IF('Data Entry Sheet'!I4=\"\",\"\",'Data Entry Sheet'!I4)","v":""},{"$f":"HYPERLINK(\"Completed\\\" & $A7 & J$32 &\".mht\", IF('Data Entry Sheet'!J4=\"\",\"\",'Data Entry Sheet'!J4))","v":""},{"$f":"IF('Data Entry Sheet'!K4=\"\",\"\",'Data Entry Sheet'!K4)","v":""},{"$f":"HYPERLINK(\"Completed\\\" & $A7 & L$32 &\".mht\", IF('Data Entry Sheet'!L4=\"\",\"\",'Data Entry Sheet'!L4))","v":""},{"$f":"IF('Data Entry Sheet'!M4=\"\",\"\",'Data Entry Sheet'!M4)","v":""},{"$f":"'Calc Sheet'!H3","v":0},"0"]
["Cline",{"$f":"HYPERLINK(\"Completed\\\" & $A8 & B$32 &\".mht\", IF('Data Entry Sheet'!B5=\"\",\"\",'Data Entry Sheet'!B5))","v":""},{"$f":"IF('Data Entry Sheet'!C5=\"\",\"\",'Data Entry Sheet'!C5)","v":""},{"$f":"HYPERLINK(\"Completed\\\" & $A8 & D$32 &\".mht\", IF('Data Entry Sheet'!D5=\"\",\"\",'Data Entry Sheet'!D5))","v":""},{"$f":"IF('Data Entry Sheet'!E5=\"\",\"\",'Data Entry Sheet'!E5)","v":""},{"$f":"HYPERLINK(\"Completed\\\" & $A8 & F$32 &\".mht\", IF('Data Entry Sheet'!F5=\"\",\"\",'Data Entry Sheet'!F5))","v":""},{"$f":"IF('Data Entry Sheet'!G5=\"\",\"\",'Data Entry Sheet'!G5)","v":""},{"$f":"HYPERLINK(\"Completed\\\" & $A8 & H$32 &\".mht\", IF('Data Entry Sheet'!H5=\"\",\"\",'Data Entry Sheet'!H5))","v":""},{"$f":"IF('Data Entry Sheet'!I5=\"\",\"\",'Data Entry Sheet'!I5)","v":""},{"$f":"HYPERLINK(\"Completed\\\" & $A8 & J$32 &\".mht\", IF('Data Entry Sheet'!J5=\"\",\"\",'Data Entry Sheet'!J5))","v":""},{"$f":"IF('Data Entry Sheet'!K5=\"\",\"\",'Data Entry Sheet'!K5)","v":""},{"$f":"HYPERLINK(\"Completed\\\" & $A8 & L$32 &\".mht\", IF('Data Entry Sheet'!L5=\"\",\"\",'Data Entry Sheet'!L5))","v":""},{"$f":"IF('Data Entry Sheet'!M5=\"\",\"\",'Data Entry Sheet'!M5)","v":""},{"$f":"'Calc Sheet'!H4","v":0},"0"]
["Clinton",{"$f":"HYPERLINK(\"Completed\\\" & $A9 & B$32 &\".mht\", IF('Data Entry Sheet'!B6=\"\",\"\",'Data Entry Sheet'!B6))","v":""},{"$f":"IF('Data Entry Sheet'!C6=\"\",\"\",'Data Entry Sheet'!C6)","v":""},{"$f":"HYPERLINK(\"Completed\\\" & $A9 & D$32 &\".mht\", IF('Data Entry Sheet'!D6=\"\",\"\",'Data Entry Sheet'!D6))","v":""},{"$f":"IF('Data Entry Sheet'!E6=\"\",\"\",'Data Entry Sheet'!E6)","v":""},{"$f":"HYPERLINK(\"Completed\\\" & $A9 & F$32 &\".mht\", IF('Data Entry Sheet'!F6=\"\",\"\",'Data Entry Sheet'!F6))","v":""},{"$f":"IF('Data Entry Sheet'!G6=\"\",\"\",'Data Entry Sheet'!G6)","v":""},{"$f":"HYPERLINK(\"Completed\\\" & $A9 & H$32 &\".mht\", IF('Data Entry Sheet'!H6=\"\",\"\",'Data Entry Sheet'!H6))","v":""},{"$f":"IF('Data Entry Sheet'!I6=\"\",\"\",'Data Entry Sheet'!I6)","v":""},{"$f":"HYPERLINK(\"Completed\\\" & $A9 & J$32 &\".mht\", IF('Data Entry Sheet'!J6=\"\",\"\",'Data Entry Sheet'!J6))","v":""},{"$f":"IF('Data Entry Sheet'!K6=\"\",\"\",'Data Entry Sheet'!K6)","v":""},{"$f":"HYPERLINK(\"Completed\\\" & $A9 & L$32 &\".mht\", IF('Data Entry Sheet'!L6=\"\",\"\",'Data Entry Sheet'!L6))","v":""},{"$f":"IF('Data Entry Sheet'!M6=\"\",\"\",'Data Entry Sheet'!M6)","v":""},{"$f":"'Calc Sheet'!H5","v":0},"0"]
["Foster",{"$f":"HYPERLINK(\"Completed\\\" & $A10 & B$32 &\".mht\", IF('Data Entry Sheet'!B7=\"\",\"\",'Data Entry Sheet'!B7))","v":""},{"$f":"IF('Data Entry Sheet'!C7=\"\",\"\",'Data Entry Sheet'!C7)","v":""},{"$f":"HYPERLINK(\"Completed\\\" & $A10 & D$32 &\".mht\", IF('Data Entry Sheet'!D7=\"\",\"\",'Data Entry Sheet'!D7))","v":""},{"$f":"IF('Data Entry Sheet'!E7=\"\",\"\",'Data Entry Sheet'!E7)","v":""},{"$f":"HYPERLINK(\"Completed\\\" & $A10 & F$32 &\".mht\", IF('Data Entry Sheet'!F7=\"\",\"\",'Data Entry Sheet'!F7))","v":""},{"$f":"IF('Data Entry Sheet'!G7=\"\",\"\",'Data Entry Sheet'!G7)","v":""},{"$f":"HYPERLINK(\"Completed\\\" & $A10 & H$32 &\".mht\", IF('Data Entry Sheet'!H7=\"\",\"\",'Data Entry Sheet'!H7))","v":""},{"$f":"IF('Data Entry Sheet'!I7=\"\",\"\",'Data Entry Sheet'!I7)","v":""},{"$f":"HYPERLINK(\"Completed\\\" & $A10 & J$32 &\".mht\", IF('Data Entry Sheet'!J7=\"\",\"\",'Data Entry Sheet'!J7))","v":""},{"$f":"IF('Data Entry Sheet'!K7=\"\",\"\",'Data Entry Sheet'!K7)","v":""},{"$f":"HYPERLINK(\"Completed\\\" & $A10 & L$32 &\".mht\", IF('Data Entry Sheet'!L7=\"\",\"\",'Data Entry Sheet'!L7))","v":""},{"$f":"IF('Data Entry Sheet'!M7=\"\",\"\",'Data Entry Sheet'!M7)","v":""},{"$f":"'Calc Sheet'!H6","v":0},"0"]
["Holmes",{"$f":"HYPERLINK(\"Completed\\\" & $A11 & B$32 &\".mht\", IF('Data Entry Sheet'!B8=\"\",\"\",'Data Entry Sheet'!B8))","v":""},{"$f":"IF('Data Entry Sheet'!C8=\"\",\"\",'Data Entry Sheet'!C8)","v":""},{"$f":"HYPERLINK(\"Completed\\\" & $A11 & D$32 &\".mht\", IF('Data Entry Sheet'!D8=\"\",\"\",'Data Entry Sheet'!D8))","v":""},{"$f":"IF('Data Entry Sheet'!E8=\"\",\"\",'Data Entry Sheet'!E8)","v":""},{"$f":"HYPERLINK(\"Completed\\\" & $A11 & F$32 &\".mht\", IF('Data Entry Sheet'!F8=\"\",\"\",'Data Entry Sheet'!F8))","v":""},{"$f":"IF('Data Entry Sheet'!G8=\"\",\"\",'Data Entry Sheet'!G8)","v":""},{"$f":"HYPERLINK(\"Completed\\\" & $A11 & H$32 &\".mht\", IF('Data Entry Sheet'!H8=\"\",\"\",'Data Entry Sheet'!H8))","v":""},{"$f":"IF('Data Entry Sheet'!I8=\"\",\"\",'Data Entry Sheet'!I8)","v":""},{"$f":"HYPERLINK(\"Completed\\\" & $A11 & J$32 &\".mht\", IF('Data Entry Sheet'!J8=\"\",\"\",'Data Entry Sheet'!J8))","v":""},{"$f":"IF('Data Entry Sheet'!K8=\"\",\"\",'Data Entry Sheet'!K8)","v":""},{"$f":"HYPERLINK(\"Completed\\\" & $A11 & L$32 &\".mht\", IF('Data Entry Sheet'!L8=\"\",\"\",'Data Entry Sheet'!L8))","v":""},{"$f":"IF('Data Entry Sheet'!M8=\"\",\"\",'Data Entry Sheet'!M8)","v":""},{"$f":"'Calc Sheet'!H7","v":0},"0"]
["Houston",{"$f":"HYPERLINK(\"Completed\\\" & $A12 & B$32 &\".mht\", IF('Data Entry Sheet'!B9=\"\",\"\",'Data Entry Sheet'!B9))","v":""},{"$f":"IF('Data Entry Sheet'!C9=\"\",\"\",'Data Entry Sheet'!C9)","v":""},{"$f":"HYPERLINK(\"Completed\\\" & $A12 & D$32 &\".mht\", IF('Data Entry Sheet'!D9=\"\",\"\",'Data Entry Sheet'!D9))","v":""},{"$f":"IF('Data Entry Sheet'!E9=\"\",\"\",'Data Entry Sheet'!E9)","v":""},{"$f":"HYPERLINK(\"Completed\\\" & $A12 & F$32 &\".mht\", IF('Data Entry Sheet'!F9=\"\",\"\",'Data Entry Sheet'!F9))","v":""},{"$f":"IF('Data Entry Sheet'!G9=\"\",\"\",'Data Entry Sheet'!G9)","v":""},{"$f":"HYPERLINK(\"Completed\\\" & $A12 & H$32 &\".mht\", IF('Data Entry Sheet'!H9=\"\",\"\",'Data Entry Sheet'!H9))","v":""},{"$f":"IF('Data Entry Sheet'!I9=\"\",\"\",'Data Entry Sheet'!I9)","v":""},{"$f":"HYPERLINK(\"Completed\\\" & $A12 & J$32 &\".mht\", IF('Data Entry Sheet'!J9=\"\",\"\",'Data Entry Sheet'!J9))","v":""},{"$f":"IF('Data Entry Sheet'!K9=\"\",\"\",'Data Entry Sheet'!K9)","v":""},{"$f":"HYPERLINK(\"Completed\\\" & $A12 & L$32 &\".mht\", IF('Data Entry Sheet'!L9=\"\",\"\",'Data Entry Sheet'!L9))","v":""},{"$f":"IF('Data Entry Sheet'!M9=\"\",\"\",'Data Entry Sheet'!M9)","v":""},{"$f":"'Calc Sheet'!H8","v":0},"0"]
["Janick",{"$f":"HYPERLINK(\"Completed\\\" & $A13 & B$32 &\".mht\", IF('Data Entry Sheet'!B10=\"\",\"\",'Data Entry Sheet'!B10))","v":"Exceeding"},{"$f":"IF('Data Entry Sheet'!C10=\"\",\"\",'Data Entry Sheet'!C10)","v":""},{"$f":"HYPERLINK(\"Completed\\\" & $A13 & D$32 &\".mht\", IF('Data Entry Sheet'!D10=\"\",\"\",'Data Entry Sheet'!D10))","v":""},{"$f":"IF('Data Entry Sheet'!E10=\"\",\"\",'Data Entry Sheet'!E10)","v":""},{"$f":"HYPERLINK(\"Completed\\\" & $A13 & F$32 &\".mht\", IF('Data Entry Sheet'!F10=\"\",\"\",'Data Entry Sheet'!F10))","v":""},{"$f":"IF('Data Entry Sheet'!G10=\"\",\"\",'Data Entry Sheet'!G10)","v":""},{"$f":"HYPERLINK(\"Completed\\\" & $A13 & H$32 &\".mht\", IF('Data Entry Sheet'!H10=\"\",\"\",'Data Entry Sheet'!H10))","v":""},{"$f":"IF('Data Entry Sheet'!I10=\"\",\"\",'Data Entry Sheet'!I10)","v":""},{"$f":"HYPERLINK(\"Completed\\\" & $A13 & J$32 &\".mht\", IF('Data Entry Sheet'!J10=\"\",\"\",'Data Entry Sheet'!J10))","v":""},{"$f":"IF('Data Entry Sheet'!K10=\"\",\"\",'Data Entry Sheet'!K10)","v":""},{"$f":"HYPERLINK(\"Completed\\\" & $A13 & L$32 &\".mht\", IF('Data Entry Sheet'!L10=\"\",\"\",'Data Entry Sheet'!L10))","v":""},{"$f":"IF('Data Entry Sheet'!M10=\"\",\"\",'Data Entry Sheet'!M10)","v":""},{"$f":"'Calc Sheet'!H9","v":1},1]
["Ketz",{"$f":"HYPERLINK(\"Completed\\\" & $A14 & B$32 &\".mht\", IF('Data Entry Sheet'!B11=\"\",\"\",'Data Entry Sheet'!B11))","v":""},{"$f":"IF('Data Entry Sheet'!C11=\"\",\"\",'Data Entry Sheet'!C11)","v":""},{"$f":"HYPERLINK(\"Completed\\\" & $A14 & D$32 &\".mht\", IF('Data Entry Sheet'!D11=\"\",\"\",'Data Entry Sheet'!D11))","v":""},{"$f":"IF('Data Entry Sheet'!E11=\"\",\"\",'Data Entry Sheet'!E11)","v":""},{"$f":"HYPERLINK(\"Completed\\\" & $A14 & F$32 &\".mht\", IF('Data Entry Sheet'!F11=\"\",\"\",'Data Entry Sheet'!F11))","v":""},{"$f":"IF('Data Entry Sheet'!G11=\"\",\"\",'Data Entry Sheet'!G11)","v":""},{"$f":"HYPERLINK(\"Completed\\\" & $A14 & H$32 &\".mht\", IF('Data Entry Sheet'!H11=\"\",\"\",'Data Entry Sheet'!H11))","v":""},{"$f":"IF('Data Entry Sheet'!I11=\"\",\"\",'Data Entry Sheet'!I11)","v":""},{"$f":"HYPERLINK(\"Completed\\\" & $A14 & J$32 &\".mht\", IF('Data Entry Sheet'!J11=\"\",\"\",'Data Entry Sheet'!J11))","v":""},{"$f":"IF('Data Entry Sheet'!K11=\"\",\"\",'Data Entry Sheet'!K11)","v":""},{"$f":"HYPERLINK(\"Completed\\\" & $A14 & L$32 &\".mht\", IF('Data Entry Sheet'!L11=\"\",\"\",'Data Entry Sheet'!L11))","v":""},{"$f":"IF('Data Entry Sheet'!M11=\"\",\"\",'Data Entry Sheet'!M11)","v":""},{"$f":"'Calc Sheet'!H10","v":0},"0"]
["Martin",{"$f":"HYPERLINK(\"Completed\\\" & $A15 & B$32 &\".mht\", IF('Data Entry Sheet'!B12=\"\",\"\",'Data Entry Sheet'!B12))","v":""},{"$f":"IF('Data Entry Sheet'!C12=\"\",\"\",'Data Entry Sheet'!C12)","v":""},{"$f":"HYPERLINK(\"Completed\\\" & $A15 & D$32 &\".mht\", IF('Data Entry Sheet'!D12=\"\",\"\",'Data Entry Sheet'!D12))","v":""},{"$f":"IF('Data Entry Sheet'!E12=\"\",\"\",'Data Entry Sheet'!E12)","v":""},{"$f":"HYPERLINK(\"Completed\\\" & $A15 & F$32 &\".mht\", IF('Data Entry Sheet'!F12=\"\",\"\",'Data Entry Sheet'!F12))","v":""},{"$f":"IF('Data Entry Sheet'!G12=\"\",\"\",'Data Entry Sheet'!G12)","v":""},{"$f":"HYPERLINK(\"Completed\\\" & $A15 & H$32 &\".mht\", IF('Data Entry Sheet'!H12=\"\",\"\",'Data Entry Sheet'!H12))","v":""},{"$f":"IF('Data Entry Sheet'!I12=\"\",\"\",'Data Entry Sheet'!I12)","v":""},{"$f":"HYPERLINK(\"Completed\\\" & $A15 & J$32 &\".mht\", IF('Data Entry Sheet'!J12=\"\",\"\",'Data Entry Sheet'!J12))","v":""},{"$f":"IF('Data Entry Sheet'!K12=\"\",\"\",'Data Entry Sheet'!K12)","v":""},{"$f":"HYPERLINK(\"Completed\\\" & $A15 & L$32 &\".mht\", IF('Data Entry Sheet'!L12=\"\",\"\",'Data Entry Sheet'!L12))","v":""},{"$f":"IF('Data Entry Sheet'!M12=\"\",\"\",'Data Entry Sheet'!M12)","v":""},{"$f":"'Calc Sheet'!H11","v":0},"0"]
["McClelland",{"$f":"HYPERLINK(\"Completed\\\" & $A16 & B$32 &\".mht\", IF('Data Entry Sheet'!B13=\"\",\"\",'Data Entry Sheet'!B13))","v":""},{"$f":"IF('Data Entry Sheet'!C13=\"\",\"\",'Data Entry Sheet'!C13)","v":""},{"$f":"HYPERLINK(\"Completed\\\" & $A16 & D$32 &\".mht\", IF('Data Entry Sheet'!D13=\"\",\"\",'Data Entry Sheet'!D13))","v":""},{"$f":"IF('Data Entry Sheet'!E13=\"\",\"\",'Data Entry Sheet'!E13)","v":""},{"$f":"HYPERLINK(\"Completed\\\" & $A16 & F$32 &\".mht\", IF('Data Entry Sheet'!F13=\"\",\"\",'Data Entry Sheet'!F13))","v":""},{"$f":"IF('Data Entry Sheet'!G13=\"\",\"\",'Data Entry Sheet'!G13)","v":""},{"$f":"HYPERLINK(\"Completed\\\" & $A16 & H$32 &\".mht\", IF('Data Entry Sheet'!H13=\"\",\"\",'Data Entry Sheet'!H13))","v":""},{"$f":"IF('Data Entry Sheet'!I13=\"\",\"\",'Data Entry Sheet'!I13)","v":""},{"$f":"HYPERLINK(\"Completed\\\" & $A16 & J$32 &\".mht\", IF('Data Entry Sheet'!J13=\"\",\"\",'Data Entry Sheet'!J13))","v":""},{"$f":"IF('Data Entry Sheet'!K13=\"\",\"\",'Data Entry Sheet'!K13)","v":""},{"$f":"HYPERLINK(\"Completed\\\" & $A16 & L$32 &\".mht\", IF('Data Entry Sheet'!L13=\"\",\"\",'Data Entry Sheet'!L13))","v":""},{"$f":"IF('Data Entry Sheet'!M13=\"\",\"\",'Data Entry Sheet'!M13)","v":""},{"$f":"'Calc Sheet'!H12","v":0},"0"]
["Miller",{"$f":"HYPERLINK(\"Completed\\\" & $A17 & B$32 &\".mht\", IF('Data Entry Sheet'!B14=\"\",\"\",'Data Entry Sheet'!B14))","v":""},{"$f":"IF('Data Entry Sheet'!C14=\"\",\"\",'Data Entry Sheet'!C14)","v":""},{"$f":"HYPERLINK(\"Completed\\\" & $A17 & D$32 &\".mht\", IF('Data Entry Sheet'!D14=\"\",\"\",'Data Entry Sheet'!D14))","v":""},{"$f":"IF('Data Entry Sheet'!E14=\"\",\"\",'Data Entry Sheet'!E14)","v":""},{"$f":"HYPERLINK(\"Completed\\\" & $A17 & F$32 &\".mht\", IF('Data Entry Sheet'!F14=\"\",\"\",'Data Entry Sheet'!F14))","v":""},{"$f":"IF('Data Entry Sheet'!G14=\"\",\"\",'Data Entry Sheet'!G14)","v":""},{"$f":"HYPERLINK(\"Completed\\\" & $A17 & H$32 &\".mht\", IF('Data Entry Sheet'!H14=\"\",\"\",'Data Entry Sheet'!H14))","v":""},{"$f":"IF('Data Entry Sheet'!I14=\"\",\"\",'Data Entry Sheet'!I14)","v":""},{"$f":"HYPERLINK(\"Completed\\\" & $A17 & J$32 &\".mht\", IF('Data Entry Sheet'!J14=\"\",\"\",'Data Entry Sheet'!J14))","v":""},{"$f":"IF('Data Entry Sheet'!K14=\"\",\"\",'Data Entry Sheet'!K14)","v":""},{"$f":"HYPERLINK(\"Completed\\\" & $A17 & L$32 &\".mht\", IF('Data Entry Sheet'!L14=\"\",\"\",'Data Entry Sheet'!L14))","v":""},{"$f":"IF('Data Entry Sheet'!M14=\"\",\"\",'Data Entry Sheet'!M14)","v":""},{"$f":"'Calc Sheet'!H13","v":0},"0"]
["Montague",{"$f":"HYPERLINK(\"Completed\\\" & $A18 & B$32 &\".mht\", IF('Data Entry Sheet'!B15=\"\",\"\",'Data Entry Sheet'!B15))","v":""},{"$f":"IF('Data Entry Sheet'!C15=\"\",\"\",'Data Entry Sheet'!C15)","v":""},{"$f":"HYPERLINK(\"Completed\\\" & $A18 & D$32 &\".mht\", IF('Data Entry Sheet'!D15=\"\",\"\",'Data Entry Sheet'!D15))","v":""},{"$f":"IF('Data Entry Sheet'!E15=\"\",\"\",'Data Entry Sheet'!E15)","v":""},{"$f":"HYPERLINK(\"Completed\\\" & $A18 & F$32 &\".mht\", IF('Data Entry Sheet'!F15=\"\",\"\",'Data Entry Sheet'!F15))","v":""},{"$f":"IF('Data Entry Sheet'!G15=\"\",\"\",'Data Entry Sheet'!G15)","v":""},{"$f":"HYPERLINK(\"Completed\\\" & $A18 & H$32 &\".mht\", IF('Data Entry Sheet'!H15=\"\",\"\",'Data Entry Sheet'!H15))","v":""},{"$f":"IF('Data Entry Sheet'!I15=\"\",\"\",'Data Entry Sheet'!I15)","v":""},{"$f":"HYPERLINK(\"Completed\\\" & $A18 & J$32 &\".mht\", IF('Data Entry Sheet'!J15=\"\",\"\",'Data Entry Sheet'!J15))","v":""},{"$f":"IF('Data Entry Sheet'!K15=\"\",\"\",'Data Entry Sheet'!K15)","v":""},{"$f":"HYPERLINK(\"Completed\\\" & $A18 & L$32 &\".mht\", IF('Data Entry Sheet'!L15=\"\",\"\",'Data Entry Sheet'!L15))","v":""},{"$f":"IF('Data Entry Sheet'!M15=\"\",\"\",'Data Entry Sheet'!M15)","v":""},{"$f":"'Calc Sheet'!H14","v":0},"0"]
["Patterson",{"$f":"HYPERLINK(\"Completed\\\" & $A19 & B$32 &\".mht\", IF('Data Entry Sheet'!B16=\"\",\"\",'Data Entry Sheet'!B16))","v":""},{"$f":"IF('Data Entry Sheet'!C16=\"\",\"\",'Data Entry Sheet'!C16)","v":""},{"$f":"HYPERLINK(\"Completed\\\" & $A19 & D$32 &\".mht\", IF('Data Entry Sheet'!D16=\"\",\"\",'Data Entry Sheet'!D16))","v":""},{"$f":"IF('Data Entry Sheet'!E16=\"\",\"\",'Data Entry Sheet'!E16)","v":""},{"$f":"HYPERLINK(\"Completed\\\" & $A19 & F$32 &\".mht\", IF('Data Entry Sheet'!F16=\"\",\"\",'Data Entry Sheet'!F16))","v":""},{"$f":"IF('Data Entry Sheet'!G16=\"\",\"\",'Data Entry Sheet'!G16)","v":""},{"$f":"HYPERLINK(\"Completed\\\" & $A19 & H$32 &\".mht\", IF('Data Entry Sheet'!H16=\"\",\"\",'Data Entry Sheet'!H16))","v":""},{"$f":"IF('Data Entry Sheet'!I16=\"\",\"\",'Data Entry Sheet'!I16)","v":""},{"$f":"HYPERLINK(\"Completed\\\" & $A19 & J$32 &\".mht\", IF('Data Entry Sheet'!J16=\"\",\"\",'Data Entry Sheet'!J16))","v":""},{"$f":"IF('Data Entry Sheet'!K16=\"\",\"\",'Data Entry Sheet'!K16)","v":""},{"$f":"HYPERLINK(\"Completed\\\" & $A19 & L$32 &\".mht\", IF('Data Entry Sheet'!L16=\"\",\"\",'Data Entry Sheet'!L16))","v":""},{"$f":"IF('Data Entry Sheet'!M16=\"\",\"\",'Data Entry Sheet'!M16)","v":""},{"$f":"'Calc Sheet'!H15","v":0},"0"]
["Ray",{"$f":"HYPERLINK(\"Completed\\\" & $A20 & B$32 &\".mht\", IF('Data Entry Sheet'!B17=\"\",\"\",'Data Entry Sheet'!B17))","v":""},{"$f":"IF('Data Entry Sheet'!C17=\"\",\"\",'Data Entry Sheet'!C17)","v":""},{"$f":"HYPERLINK(\"Completed\\\" & $A20 & D$32 &\".mht\", IF('Data Entry Sheet'!D17=\"\",\"\",'Data Entry Sheet'!D17))","v":""},{"$f":"IF('Data Entry Sheet'!E17=\"\",\"\",'Data Entry Sheet'!E17)","v":""},{"$f":"HYPERLINK(\"Completed\\\" & $A20 & F$32 &\".mht\", IF('Data Entry Sheet'!F17=\"\",\"\",'Data Entry Sheet'!F17))","v":""},{"$f":"IF('Data Entry Sheet'!G17=\"\",\"\",'Data Entry Sheet'!G17)","v":""},{"$f":"HYPERLINK(\"Completed\\\" & $A20 & H$32 &\".mht\", IF('Data Entry Sheet'!H17=\"\",\"\",'Data Entry Sheet'!H17))","v":""},{"$f":"IF('Data Entry Sheet'!I17=\"\",\"\",'Data Entry Sheet'!I17)","v":""},{"$f":"HYPERLINK(\"Completed\\\" & $A20 & J$32 &\".mht\", IF('Data Entry Sheet'!J17=\"\",\"\",'Data Entry Sheet'!J17))","v":""},{"$f":"IF('Data Entry Sheet'!K17=\"\",\"\",'Data Entry Sheet'!K17)","v":""},{"$f":"HYPERLINK(\"Completed\\\" & $A20 & L$32 &\".mht\", IF('Data Entry Sheet'!L17=\"\",\"\",'Data Entry Sheet'!L17))","v":""},{"$f":"IF('Data Entry Sheet'!M17=\"\",\"\",'Data Entry Sheet'!M17)","v":""},{"$f":"'Calc Sheet'!H16","v":0},"0"]
["Rezek",{"$f":"HYPERLINK(\"Completed\\\" & $A21 & B$32 &\".mht\", IF('Data Entry Sheet'!B18=\"\",\"\",'Data Entry Sheet'!B18))","v":""},{"$f":"IF('Data Entry Sheet'!C18=\"\",\"\",'Data Entry Sheet'!C18)","v":""},{"$f":"HYPERLINK(\"Completed\\\" & $A21 & D$32 &\".mht\", IF('Data Entry Sheet'!D18=\"\",\"\",'Data Entry Sheet'!D18))","v":""},{"$f":"IF('Data Entry Sheet'!E18=\"\",\"\",'Data Entry Sheet'!E18)","v":""},{"$f":"HYPERLINK(\"Completed\\\" & $A21 & F$32 &\".mht\", IF('Data Entry Sheet'!F18=\"\",\"\",'Data Entry Sheet'!F18))","v":""},{"$f":"IF('Data Entry Sheet'!G18=\"\",\"\",'Data Entry Sheet'!G18)","v":""},{"$f":"HYPERLINK(\"Completed\\\" & $A21 & H$32 &\".mht\", IF('Data Entry Sheet'!H18=\"\",\"\",'Data Entry Sheet'!H18))","v":""},{"$f":"IF('Data Entry Sheet'!I18=\"\",\"\",'Data Entry Sheet'!I18)","v":""},{"$f":"HYPERLINK(\"Completed\\\" & $A21 & J$32 &\".mht\", IF('Data Entry Sheet'!J18=\"\",\"\",'Data Entry Sheet'!J18))","v":""},{"$f":"IF('Data Entry Sheet'!K18=\"\",\"\",'Data Entry Sheet'!K18)","v":""},{"$f":"HYPERLINK(\"Completed\\\" & $A21 & L$32 &\".mht\", IF('Data Entry Sheet'!L18=\"\",\"\",'Data Entry Sheet'!L18))","v":""},{"$f":"IF('Data Entry Sheet'!M18=\"\",\"\",'Data Entry Sheet'!M18)","v":""},{"$f":"'Calc Sheet'!H17","v":0},"0"]
["Rocker",{"$f":"HYPERLINK(\"Completed\\\" & $A22 & B$32 &\".mht\", IF('Data Entry Sheet'!B19=\"\",\"\",'Data Entry Sheet'!B19))","v":""},{"$f":"IF('Data Entry Sheet'!C19=\"\",\"\",'Data Entry Sheet'!C19)","v":""},{"$f":"HYPERLINK(\"Completed\\\" & $A22 & D$32 &\".mht\", IF('Data Entry Sheet'!D19=\"\",\"\",'Data Entry Sheet'!D19))","v":""},{"$f":"IF('Data Entry Sheet'!E19=\"\",\"\",'Data Entry Sheet'!E19)","v":""},{"$f":"HYPERLINK(\"Completed\\\" & $A22 & F$32 &\".mht\", IF('Data Entry Sheet'!F19=\"\",\"\",'Data Entry Sheet'!F19))","v":""},{"$f":"IF('Data Entry Sheet'!G19=\"\",\"\",'Data Entry Sheet'!G19)","v":""},{"$f":"HYPERLINK(\"Completed\\\" & $A22 & H$32 &\".mht\", IF('Data Entry Sheet'!H19=\"\",\"\",'Data Entry Sheet'!H19))","v":""},{"$f":"IF('Data Entry Sheet'!I19=\"\",\"\",'Data Entry Sheet'!I19)","v":""},{"$f":"HYPERLINK(\"Completed\\\" & $A22 & J$32 &\".mht\", IF('Data Entry Sheet'!J19=\"\",\"\",'Data Entry Sheet'!J19))","v":""},{"$f":"IF('Data Entry Sheet'!K19=\"\",\"\",'Data Entry Sheet'!K19)","v":""},{"$f":"HYPERLINK(\"Completed\\\" & $A22 & L$32 &\".mht\", IF('Data Entry Sheet'!L19=\"\",\"\",'Data Entry Sheet'!L19))","v":""},{"$f":"IF('Data Entry Sheet'!M19=\"\",\"\",'Data Entry Sheet'!M19)","v":""},{"$f":"'Calc Sheet'!H18","v":0},"0"]
["Schroeder",{"$f":"HYPERLINK(\"Completed\\\" & $A23 & B$32 &\".mht\", IF('Data Entry Sheet'!B20=\"\",\"\",'Data Entry Sheet'!B20))","v":""},{"$f":"IF('Data Entry Sheet'!C20=\"\",\"\",'Data Entry Sheet'!C20)","v":""},{"$f":"HYPERLINK(\"Completed\\\" & $A23 & D$32 &\".mht\", IF('Data Entry Sheet'!D20=\"\",\"\",'Data Entry Sheet'!D20))","v":""},{"$f":"IF('Data Entry Sheet'!E20=\"\",\"\",'Data Entry Sheet'!E20)","v":""},{"$f":"HYPERLINK(\"Completed\\\" & $A23 & F$32 &\".mht\", IF('Data Entry Sheet'!F20=\"\",\"\",'Data Entry Sheet'!F20))","v":""},{"$f":"IF('Data Entry Sheet'!G20=\"\",\"\",'Data Entry Sheet'!G20)","v":""},{"$f":"HYPERLINK(\"Completed\\\" & $A23 & H$32 &\".mht\", IF('Data Entry Sheet'!H20=\"\",\"\",'Data Entry Sheet'!H20))","v":""},{"$f":"IF('Data Entry Sheet'!I20=\"\",\"\",'Data Entry Sheet'!I20)","v":""},{"$f":"HYPERLINK(\"Completed\\\" & $A23 & J$32 &\".mht\", IF('Data Entry Sheet'!J20=\"\",\"\",'Data Entry Sheet'!J20))","v":""},{"$f":"IF('Data Entry Sheet'!K20=\"\",\"\",'Data Entry Sheet'!K20)","v":""},{"$f":"HYPERLINK(\"Completed\\\" & $A23 & L$32 &\".mht\", IF('Data Entry Sheet'!L20=\"\",\"\",'Data Entry Sheet'!L20))","v":""},{"$f":"IF('Data Entry Sheet'!M20=\"\",\"\",'Data Entry Sheet'!M20)","v":""},{"$f":"'Calc Sheet'!H19","v":0},"0"]
["Segovia"]
["Shockman",{"$f":"HYPERLINK(\"Completed\\\" & $A25 & B$32 &\".mht\", IF('Data Entry Sheet'!B21=\"\",\"\",'Data Entry Sheet'!B21))","v":""},{"$f":"IF('Data Entry Sheet'!C21=\"\",\"\",'Data Entry Sheet'!C21)","v":""},{"$f":"HYPERLINK(\"Completed\\\" & $A25 & D$32 &\".mht\", IF('Data Entry Sheet'!D21=\"\",\"\",'Data Entry Sheet'!D21))","v":""},{"$f":"IF('Data Entry Sheet'!E21=\"\",\"\",'Data Entry Sheet'!E21)","v":""},{"$f":"HYPERLINK(\"Completed\\\" & $A25 & F$32 &\".mht\", IF('Data Entry Sheet'!F21=\"\",\"\",'Data Entry Sheet'!F21))","v":""},{"$f":"IF('Data Entry Sheet'!G21=\"\",\"\",'Data Entry Sheet'!G21)","v":""},{"$f":"HYPERLINK(\"Completed\\\" & $A25 & H$32 &\".mht\", IF('Data Entry Sheet'!H21=\"\",\"\",'Data Entry Sheet'!H21))","v":""},{"$f":"IF('Data Entry Sheet'!I21=\"\",\"\",'Data Entry Sheet'!I21)","v":""},{"$f":"HYPERLINK(\"Completed\\\" & $A25 & J$32 &\".mht\", IF('Data Entry Sheet'!J21=\"\",\"\",'Data Entry Sheet'!J21))","v":""},{"$f":"IF('Data Entry Sheet'!K21=\"\",\"\",'Data Entry Sheet'!K21)","v":""},{"$f":"HYPERLINK(\"Completed\\\" & $A25 & L$32 &\".mht\", IF('Data Entry Sheet'!L21=\"\",\"\",'Data Entry Sheet'!L21))","v":""},{"$f":"IF('Data Entry Sheet'!M21=\"\",\"\",'Data Entry Sheet'!M21)","v":""},{"$f":"'Calc Sheet'!H20","v":0},"0"]
[]
[{"$nulls":7},"Count","%"]
[null,"* Who sat with this person",null,null,"Meeting",null,null,{"$f":"SUM(N6:N25)","v":1},{"$f":"SUM(100% - (I29))","v":{"v":1,"d":"100%"}}]
[{"$nulls":4},"Not Meeting",null,null,{"$f":"SUM(O6:O25)-SUM(N6:N25)","v":0},{"$f":"SUM(H29/ SUM(O6:O25))","v":{"v":0,"d":"0%"}}]
[]
[]
[null,-1,null,-2,null,-3,null,-4,null,-5,null,-6]

{"sheet":"Data Entry Sheet","index":1,"n_rows":21,"n_cols":15,"rows_kept":21,"merged":[[1,13,1,15]]}
[]
["Employee\nName","QA #1","Sat With","QA #2","Sat With","QA #3","Sat With","QA #4","Sat With","QA #5","Sat With","QA #6","Sat With","Month to Date Misses"]
[{"$f":"'Employee List'!A6","v":"Ahmann"},{"$nulls":12},"Category","Misses"]
[{"$f":"'Employee List'!A7","v":"Cain"},{"$nulls":12},"Opening",0]
[{"$f":"'Employee List'!A8","v":"Cline"},{"$nulls":12},"Talking Points",0]
[{"$f":"'Employee List'!A9","v":"Clinton"},{"$nulls":12},"Closing",0]
[{"$f":"'Employee List'!A10","v":"Foster"},{"$nulls":12},"Rapport",0]
[{"$f":"'Employee List'!A11","v":"Holmes"},{"$nulls":12},"Commun. Style",0]
[{"$f":"'Employee List'!A12","v":"Houston"},{"$nulls":12},"Issue Identification",0]
[{"$f":"'Employee List'!A13","v":"Janick"},"Exceeding",{"$nulls":11},"Verbal Verification",0]
[{"$f":"'Employee List'!A14","v":"Ketz"},{"$nulls":12},"Probing",0]
[{"$f":"'Employee List'!A15","v":"Martin"},{"$nulls":12},"Resources",0]
[{"$f":"'Employee List'!A16","v":"McClelland"},{"$nulls":12},"Troubleshooting",0]
[{"$f":"'Employee List'!A17","v":"Miller"},{"$nulls":12},"Policies",1]
[{"$f":"'Employee List'!A18","v":"Montague"},{"$nulls":12},"Solutions/Advice",0]
[{"$f":"'Employee List'!A19","v":"Patterson"},{"$nulls":12},"Categorization",0]
[{"$f":"'Employee List'!A20","v":"Ray"},{"$nulls":12},"Notes",0]
[{"$f":"'Employee List'!A21","v":"Rezek"},{"$nulls":12},"Total of Instances",{"$f":"SUM(O4:O17)","v":1}]
[{"$f":"'Employee List'!A22","v":"Rocker"}]
[{"$f":"'Employee List'!A23","v":"Schroeder"}]
[{"$f":"'Employee List'!A25","v":"Shockman"}]

{"sheet":"Calc Sheet","index":2,"n_rows":22,"n_cols":13,"rows_kept":22}
[null,"QA1","QA2","QA3","QA4","QA5","QA6","Total Meeting QA's",null,"Exceeding",null,"x",{"$f":"TODAY()","v":"2010-11-27"}]
[{"$f":"'Employee List'!A6","v":"Ahmann"},{"$f":"IF(OR('Employee List'!B6=\"met\",'Employee List'!B6=\"exceeding\")=TRUE, 1, \"0\")","v":"0"},{"$f":"IF(OR('Employee List'!D6=\"met\",'Employee List'!D6=\"exceeding\")=TRUE, 1, \"0\")","v":"0"},{"$f":"IF(OR('Employee List'!F6=\"met\",'Employee List'!F6=\"exceeding\")=TRUE, 1, \"0\")","v":"0"},{"$f":"IF(OR('Employee List'!H6=\"met\",'Employee List'!H6=\"exceeding\")=TRUE, 1, \"0\")","v":"0"},{"$f":"IF(OR('Employee List'!J6=\"met\",'Employee List'!J6=\"exceeding\")=TRUE, 1, \"0\")","v":"0"},{"$f":"IF(OR('Employee List'!L6=\"met\",'Employee List'!L6=\"exceeding\")=TRUE, 1, \"0\")","v":"0"},{"$f":"SUM(B2:F2)","v":0},null,"Met"]
[{"$f":"'Employee List'!A7","v":"Cain"},{"$f":"IF(OR('Employee List'!B7=\"met\",'Employee List'!B7=\"exceeding\")=TRUE, 1, \"0\")","v":"0"},{"$f":"IF(OR('Employee List'!D7=\"met\",'Employee List'!D7=\"exceeding\")=TRUE, 1, \"0\")","v":"0"},{"$f":"IF(OR('Employee List'!F7=\"met\",'Employee List'!F7=\"exceeding\")=TRUE, 1, \"0\")","v":"0"},{"$f":"IF(OR('Employee List'!H7=\"met\",'Employee List'!H7=\"exceeding\")=TRUE, 1, \"0\")","v":"0"},{"$f":"IF(OR('Employee List'!J7=\"met\",'Employee List'!J7=\"exceeding\")=TRUE, 1, \"0\")","v":"0"},{"$f":"IF(OR('Employee List'!L7=\"met\",'Employee List'!L7=\"exceeding\")=TRUE, 1, \"0\")","v":"0"},{"$f":"SUM(B3:F3)","v":0},null,"Not Met"]
[{"$f":"'Employee List'!A8","v":"Cline"},{"$f":"IF(OR('Employee List'!B8=\"met\",'Employee List'!B8=\"exceeding\")=TRUE, 1, \"0\")","v":"0"},{"$f":"IF(OR('Employee List'!D8=\"met\",'Employee List'!D8=\"exceeding\")=TRUE, 1, \"0\")","v":"0"},{"$f":"IF(OR('Employee List'!F8=\"met\",'Employee List'!F8=\"exceeding\")=TRUE, 1, \"0\")","v":"0"},{"$f":"IF(OR('Employee List'!H8=\"met\",'Employee List'!H8=\"exceeding\")=TRUE, 1, \"0\")","v":"0"},{"$f":"IF(OR('Employee List'!J8=\"met\",'Employee List'!J8=\"exceeding\")=TRUE, 1, \"0\")","v":"0"},{"$f":"IF(OR('Employee List'!L8=\"met\",'Employee List'!L8=\"exceeding\")=TRUE, 1, \"0\")","v":"0"},0]
[{"$f":"'Employee List'!A9","v":"Clinton"},{"$f":"IF(OR('Employee List'!B9=\"met\",'Employee List'!B9=\"exceeding\")=TRUE, 1, \"0\")","v":"0"},{"$f":"IF(OR('Employee List'!D9=\"met\",'Employee List'!D9=\"exceeding\")=TRUE, 1, \"0\")","v":"0"},{"$f":"IF(OR('Employee List'!F9=\"met\",'Employee List'!F9=\"exceeding\")=TRUE, 1, \"0\")","v":"0"},{"$f":"IF(OR('Employee List'!H9=\"met\",'Employee List'!H9=\"exceeding\")=TRUE, 1, \"0\")","v":"0"},{"$f":"IF(OR('Employee List'!J9=\"met\",'Employee List'!J9=\"exceeding\")=TRUE, 1, \"0\")","v":"0"},{"$f":"IF(OR('Employee List'!L9=\"met\",'Employee List'!L9=\"exceeding\")=TRUE, 1, \"0\")","v":"0"},0]
[{"$f":"'Employee List'!A10","v":"Foster"},{"$f":"IF(OR('Employee List'!B10=\"met\",'Employee List'!B10=\"exceeding\")=TRUE, 1, \"0\")","v":"0"},{"$f":"IF(OR('Employee List'!D10=\"met\",'Employee List'!D10=\"exceeding\")=TRUE, 1, \"0\")","v":"0"},{"$f":"IF(OR('Employee List'!F10=\"met\",'Employee List'!F10=\"exceeding\")=TRUE, 1, \"0\")","v":"0"},{"$f":"IF(OR('Employee List'!H10=\"met\",'Employee List'!H10=\"exceeding\")=TRUE, 1, \"0\")","v":"0"},{"$f":"IF(OR('Employee List'!J10=\"met\",'Employee List'!J10=\"exceeding\")=TRUE, 1, \"0\")","v":"0"},{"$f":"IF(OR('Employee List'!L10=\"met\",'Employee List'!L10=\"exceeding\")=TRUE, 1, \"0\")","v":"0"},0]
[{"$f":"'Employee List'!A11","v":"Holmes"},{"$f":"IF(OR('Employee List'!B11=\"met\",'Employee List'!B11=\"exceeding\")=TRUE, 1, \"0\")","v":"0"},{"$f":"IF(OR('Employee List'!D11=\"met\",'Employee List'!D11=\"exceeding\")=TRUE, 1, \"0\")","v":"0"},{"$f":"IF(OR('Employee List'!F11=\"met\",'Employee List'!F11=\"exceeding\")=TRUE, 1, \"0\")","v":"0"},{"$f":"IF(OR('Employee List'!H11=\"met\",'Employee List'!H11=\"exceeding\")=TRUE, 1, \"0\")","v":"0"},{"$f":"IF(OR('Employee List'!J11=\"met\",'Employee List'!J11=\"exceeding\")=TRUE, 1, \"0\")","v":"0"},{"$f":"IF(OR('Employee List'!L11=\"met\",'Employee List'!L11=\"exceeding\")=TRUE, 1, \"0\")","v":"0"},0]
[{"$f":"'Employee List'!A12","v":"Houston"},{"$f":"IF(OR('Employee List'!B12=\"met\",'Employee List'!B12=\"exceeding\")=TRUE, 1, \"0\")","v":"0"},{"$f":"IF(OR('Employee List'!D12=\"met\",'Employee List'!D12=\"exceeding\")=TRUE, 1, \"0\")","v":"0"},{"$f":"IF(OR('Employee List'!F12=\"met\",'Employee List'!F12=\"exceeding\")=TRUE, 1, \"0\")","v":"0"},{"$f":"IF(OR('Employee List'!H12=\"met\",'Employee List'!H12=\"exceeding\")=TRUE, 1, \"0\")","v":"0"},{"$f":"IF(OR('Employee List'!J12=\"met\",'Employee List'!J12=\"exceeding\")=TRUE, 1, \"0\")","v":"0"},{"$f":"IF(OR('Employee List'!L12=\"met\",'Employee List'!L12=\"exceeding\")=TRUE, 1, \"0\")","v":"0"},0]
[{"$f":"'Employee List'!A13","v":"Janick"},{"$f":"IF(OR('Employee List'!B13=\"met\",'Employee List'!B13=\"exceeding\")=TRUE, 1, \"0\")","v":1},{"$f":"IF(OR('Employee List'!D13=\"met\",'Employee List'!D13=\"exceeding\")=TRUE, 1, \"0\")","v":"0"},{"$f":"IF(OR('Employee List'!F13=\"met\",'Employee List'!F13=\"exceeding\")=TRUE, 1, \"0\")","v":"0"},{"$f":"IF(OR('Employee List'!H13=\"met\",'Employee List'!H13=\"exceeding\")=TRUE, 1, \"0\")","v":"0"},{"$f":"IF(OR('Employee List'!J13=\"met\",'Employee List'!J13=\"exceeding\")=TRUE, 1, \"0\")","v":"0"},{"$f":"IF(OR('Employee List'!L13=\"met\",'Employee List'!L13=\"exceeding\")=TRUE, 1, \"0\")","v":"0"},1]
[{"$f":"'Employee List'!A14","v":"Ketz"},{"$f":"IF(OR('Employee List'!B14=\"met\",'Employee List'!B14=\"exceeding\")=TRUE, 1, \"0\")","v":"0"},{"$f":"IF(OR('Employee List'!D14=\"met\",'Employee List'!D14=\"exceeding\")=TRUE, 1, \"0\")","v":"0"},{"$f":"IF(OR('Employee List'!F14=\"met\",'Employee List'!F14=\"exceeding\")=TRUE, 1, \"0\")","v":"0"},{"$f":"IF(OR('Employee List'!H14=\"met\",'Employee List'!H14=\"exceeding\")=TRUE, 1, \"0\")","v":"0"},{"$f":"IF(OR('Employee List'!J14=\"met\",'Employee List'!J14=\"exceeding\")=TRUE, 1, \"0\")","v":"0"},{"$f":"IF(OR('Employee List'!L14=\"met\",'Employee List'!L14=\"exceeding\")=TRUE, 1, \"0\")","v":"0"},0]
[{"$f":"'Employee List'!A15","v":"Martin"},{"$f":"IF(OR('Employee List'!B15=\"met\",'Employee List'!B15=\"exceeding\")=TRUE, 1, \"0\")","v":"0"},{"$f":"IF(OR('Employee List'!D15=\"met\",'Employee List'!D15=\"exceeding\")=TRUE, 1, \"0\")","v":"0"},{"$f":"IF(OR('Employee List'!F15=\"met\",'Employee List'!F15=\"exceeding\")=TRUE, 1, \"0\")","v":"0"},{"$f":"IF(OR('Employee List'!H15=\"met\",'Employee List'!H15=\"exceeding\")=TRUE, 1, \"0\")","v":"0"},{"$f":"IF(OR('Employee List'!J15=\"met\",'Employee List'!J15=\"exceeding\")=TRUE, 1, \"0\")","v":"0"},{"$f":"IF(OR('Employee List'!L15=\"met\",'Employee List'!L15=\"exceeding\")=TRUE, 1, \"0\")","v":"0"},0]
[{"$f":"'Employee List'!A16","v":"McClelland"},{"$f":"IF(OR('Employee List'!B16=\"met\",'Employee List'!B16=\"exceeding\")=TRUE, 1, \"0\")","v":"0"},{"$f":"IF(OR('Employee List'!D16=\"met\",'Employee List'!D16=\"exceeding\")=TRUE, 1, \"0\")","v":"0"},{"$f":"IF(OR('Employee List'!F16=\"met\",'Employee List'!F16=\"exceeding\")=TRUE, 1, \"0\")","v":"0"},{"$f":"IF(OR('Employee List'!H16=\"met\",'Employee List'!H16=\"exceeding\")=TRUE, 1, \"0\")","v":"0"},{"$f":"IF(OR('Employee List'!J16=\"met\",'Employee List'!J16=\"exceeding\")=TRUE, 1, \"0\")","v":"0"},{"$f":"IF(OR('Employee List'!L16=\"met\",'Employee List'!L16=\"exceeding\")=TRUE, 1, \"0\")","v":"0"},0]
[{"$f":"'Employee List'!A17","v":"Miller"},{"$f":"IF(OR('Employee List'!B17=\"met\",'Employee List'!B17=\"exceeding\")=TRUE, 1, \"0\")","v":"0"},{"$f":"IF(OR('Employee List'!D17=\"met\",'Employee List'!D17=\"exceeding\")=TRUE, 1, \"0\")","v":"0"},{"$f":"IF(OR('Employee List'!F17=\"met\",'Employee List'!F17=\"exceeding\")=TRUE, 1, \"0\")","v":"0"},{"$f":"IF(OR('Employee List'!H17=\"met\",'Employee List'!H17=\"exceeding\")=TRUE, 1, \"0\")","v":"0"},{"$f":"IF(OR('Employee List'!J17=\"met\",'Employee List'!J17=\"exceeding\")=TRUE, 1, \"0\")","v":"0"},{"$f":"IF(OR('Employee List'!L17=\"met\",'Employee List'!L17=\"exceeding\")=TRUE, 1, \"0\")","v":"0"},0]
[{"$f":"'Employee List'!A18","v":"Montague"},{"$f":"IF(OR('Employee List'!B18=\"met\",'Employee List'!B18=\"exceeding\")=TRUE, 1, \"0\")","v":"0"},{"$f":"IF(OR('Employee List'!D18=\"met\",'Employee List'!D18=\"exceeding\")=TRUE, 1, \"0\")","v":"0"},{"$f":"IF(OR('Employee List'!F18=\"met\",'Employee List'!F18=\"exceeding\")=TRUE, 1, \"0\")","v":"0"},{"$f":"IF(OR('Employee List'!H18=\"met\",'Employee List'!H18=\"exceeding\")=TRUE, 1, \"0\")","v":"0"},{"$f":"IF(OR('Employee List'!J18=\"met\",'Employee List'!J18=\"exceeding\")=TRUE, 1, \"0\")","v":"0"},{"$f":"IF(OR('Employee List'!L18=\"met\",'Employee List'!L18=\"exceeding\")=TRUE, 1, \"0\")","v":"0"},0]
[{"$f":"'Employee List'!A19","v":"Patterson"},{"$f":"IF(OR('Employee List'!B19=\"met\",'Employee List'!B19=\"exceeding\")=TRUE, 1, \"0\")","v":"0"},{"$f":"IF(OR('Employee List'!D19=\"met\",'Employee List'!D19=\"exceeding\")=TRUE, 1, \"0\")","v":"0"},{"$f":"IF(OR('Employee List'!F19=\"met\",'Employee List'!F19=\"exceeding\")=TRUE, 1, \"0\")","v":"0"},{"$f":"IF(OR('Employee List'!H19=\"met\",'Employee List'!H19=\"exceeding\")=TRUE, 1, \"0\")","v":"0"},{"$f":"IF(OR('Employee List'!J19=\"met\",'Employee List'!J19=\"exceeding\")=TRUE, 1, \"0\")","v":"0"},{"$f":"IF(OR('Employee List'!L19=\"met\",'Employee List'!L19=\"exceeding\")=TRUE, 1, \"0\")","v":"0"},0]
[{"$f":"'Employee List'!A20","v":"Ray"},{"$f":"IF(OR('Employee List'!B20=\"met\",'Employee List'!B20=\"exceeding\")=TRUE, 1, \"0\")","v":"0"},{"$f":"IF(OR('Employee List'!D20=\"met\",'Employee List'!D20=\"exceeding\")=TRUE, 1, \"0\")","v":"0"},{"$f":"IF(OR('Employee List'!F20=\"met\",'Employee List'!F20=\"exceeding\")=TRUE, 1, \"0\")","v":"0"},{"$f":"IF(OR('Employee List'!H20=\"met\",'Employee List'!H20=\"exceeding\")=TRUE, 1, \"0\")","v":"0"},{"$f":"IF(OR('Employee List'!J20=\"met\",'Employee List'!J20=\"exceeding\")=TRUE, 1, \"0\")","v":"0"},{"$f":"IF(OR('Employee List'!L20=\"met\",'Employee List'!L20=\"exceeding\")=TRUE, 1, \"0\")","v":"0"},0]
[{"$f":"'Employee List'!A21","v":"Rezek"},{"$f":"IF(OR('Employee List'!B21=\"met\",'Employee List'!B21=\"exceeding\")=TRUE, 1, \"0\")","v":"0"},{"$f":"IF(OR('Employee List'!D21=\"met\",'Employee List'!D21=\"exceeding\")=TRUE, 1, \"0\")","v":"0"},{"$f":"IF(OR('Employee List'!F21=\"met\",'Employee List'!F21=\"exceeding\")=TRUE, 1, \"0\")","v":"0"},{"$f":"IF(OR('Employee List'!H21=\"met\",'Employee List'!H21=\"exceeding\")=TRUE, 1, \"0\")","v":"0"},{"$f":"IF(OR('Employee List'!J21=\"met\",'Employee List'!J21=\"exceeding\")=TRUE, 1, \"0\")","v":"0"},{"$f":"IF(OR('Employee List'!L21=\"met\",'Employee List'!L21=\"exceeding\")=TRUE, 1, \"0\")","v":"0"},0]
[{"$f":"'Employee List'!A25","v":"Shockman"},{"$f":"IF(OR('Employee List'!B25=\"met\",'Employee List'!B25=\"exceeding\")=TRUE, 1, \"0\")","v":"0"},{"$f":"IF(OR('Employee List'!D25=\"met\",'Employee List'!D25=\"exceeding\")=TRUE, 1, \"0\")","v":"0"},{"$f":"IF(OR('Employee List'!F25=\"met\",'Employee List'!F25=\"exceeding\")=TRUE, 1, \"0\")","v":"0"},{"$f":"IF(OR('Employee List'!H25=\"met\",'Employee List'!H25=\"exceeding\")=TRUE, 1, \"0\")","v":"0"},{"$f":"IF(OR('Employee List'!J25=\"met\",'Employee List'!J25=\"exceeding\")=TRUE, 1, \"0\")","v":"0"},{"$f":"IF(OR('Employee List'!L25=\"met\",'Employee List'!L25=\"exceeding\")=TRUE, 1, \"0\")","v":"0"},0]
[{"$f":"'Employee List'!A26","v":0},{"$f":"IF(OR('Employee List'!B26=\"met\",'Employee List'!B26=\"exceeding\")=TRUE, 1, \"0\")","v":"0"},{"$f":"IF(OR('Employee List'!D26=\"met\",'Employee List'!D26=\"exceeding\")=TRUE, 1, \"0\")","v":"0"},{"$f":"IF(OR('Employee List'!F26=\"met\",'Employee List'!F26=\"exceeding\")=TRUE, 1, \"0\")","v":"0"},{"$f":"IF(OR('Employee List'!H26=\"met\",'Employee List'!H26=\"exceeding\")=TRUE, 1, \"0\")","v":"0"},{"$f":"IF(OR('Employee List'!J26=\"met\",'Employee List'!J26=\"exceeding\")=TRUE, 1, \"0\")","v":"0"},{"$f":"IF(OR('Employee List'!L26=\"met\",'Employee List'!L26=\"exceeding\")=TRUE, 1, \"0\")","v":"0"},0]
[{"$f":"'Employee List'!A27","v":0},{"$f":"IF(OR('Employee List'!B27=\"met\",'Employee List'!B27=\"exceeding\")=TRUE, 1, \"0\")","v":"0"},{"$f":"IF(OR('Employee List'!D27=\"met\",'Employee List'!D27=\"exceeding\")=TRUE, 1, \"0\")","v":"0"},{"$f":"IF(OR('Employee List'!F27=\"met\",'Employee List'!F27=\"exceeding\")=TRUE, 1, \"0\")","v":"0"},{"$f":"IF(OR('Employee List'!H27=\"met\",'Employee List'!H27=\"exceeding\")=TRUE, 1, \"0\")","v":"0"},{"$f":"IF(OR('Employee List'!J27=\"met\",'Employee List'!J27=\"exceeding\")=TRUE, 1, \"0\")","v":"0"},{"$f":"IF(OR('Employee List'!L27=\"met\",'Employee List'!L27=\"exceeding\")=TRUE, 1, \"0\")","v":"0"},0]
[{"$f":"'Employee List'!A28","v":0},{"$f":"IF(OR('Employee List'!B28=\"met\",'Employee List'!B28=\"exceeding\")=TRUE, 1, \"0\")","v":"0"},{"$f":"IF(OR('Employee List'!D28=\"met\",'Employee List'!D28=\"exceeding\")=TRUE, 1, \"0\")","v":"0"},{"$f":"IF(OR('Employee List'!F28=\"met\",'Employee List'!F28=\"exceeding\")=TRUE, 1, \"0\")","v":"0"},{"$f":"IF(OR('Employee List'!H28=\"met\",'Employee List'!H28=\"exceeding\")=TRUE, 1, \"0\")","v":"0"},{"$f":"IF(OR('Employee List'!J28=\"met\",'Employee List'!J28=\"exceeding\")=TRUE, 1, \"0\")","v":"0"},{"$f":"IF(OR('Employee List'!L28=\"met\",'Employee List'!L28=\"exceeding\")=TRUE, 1, \"0\")","v":"0"},0]
[{"$f":"'Employee List'!A29","v":0},{"$f":"IF(OR('Employee List'!B29=\"met\",'Employee List'!B29=\"exceeding\")=TRUE, 1, \"0\")","v":"0"},{"$f":"IF(OR('Employee List'!D29=\"met\",'Employee List'!D29=\"exceeding\")=TRUE, 1, \"0\")","v":"0"},{"$f":"IF(OR('Employee List'!F29=\"met\",'Employee List'!F29=\"exceeding\")=TRUE, 1, \"0\")","v":"0"},{"$f":"IF(OR('Employee List'!H29=\"met\",'Employee List'!H29=\"exceeding\")=TRUE, 1, \"0\")","v":"0"},{"$f":"IF(OR('Employee List'!J29=\"met\",'Employee List'!J29=\"exceeding\")=TRUE, 1, \"0\")","v":"0"},{"$f":"IF(OR('Employee List'!L29=\"met\",'Employee List'!L29=\"exceeding\")=TRUE, 1, \"0\")","v":"0"},0]